BEGIN:VCALENDAR
VERSION:2.0
PRODID:-//BRIOL Maschinenbau GmbH - ECPv6.15.17.1//NONSGML v1.0//EN
CALSCALE:GREGORIAN
METHOD:PUBLISH
X-WR-CALNAME:BRIOL Maschinenbau GmbH
X-ORIGINAL-URL:https://briol.de
X-WR-CALDESC:Veranstaltungen für BRIOL Maschinenbau GmbH
REFRESH-INTERVAL;VALUE=DURATION:PT1H
X-Robots-Tag:noindex
X-PUBLISHED-TTL:PT1H
BEGIN:VTIMEZONE
TZID:Europe/Berlin
BEGIN:DAYLIGHT
TZOFFSETFROM:+0100
TZOFFSETTO:+0200
TZNAME:CEST
DTSTART:20170326T010000
END:DAYLIGHT
BEGIN:STANDARD
TZOFFSETFROM:+0200
TZOFFSETTO:+0100
TZNAME:CET
DTSTART:20171029T010000
END:STANDARD
BEGIN:DAYLIGHT
TZOFFSETFROM:+0100
TZOFFSETTO:+0200
TZNAME:CEST
DTSTART:20180325T010000
END:DAYLIGHT
BEGIN:STANDARD
TZOFFSETFROM:+0200
TZOFFSETTO:+0100
TZNAME:CET
DTSTART:20181028T010000
END:STANDARD
BEGIN:DAYLIGHT
TZOFFSETFROM:+0100
TZOFFSETTO:+0200
TZNAME:CEST
DTSTART:20190331T010000
END:DAYLIGHT
BEGIN:STANDARD
TZOFFSETFROM:+0200
TZOFFSETTO:+0100
TZNAME:CET
DTSTART:20191027T010000
END:STANDARD
END:VTIMEZONE
BEGIN:VEVENT
DTSTART;VALUE=DATE:20180310
DTEND;VALUE=DATE:20180313
DTSTAMP:20260425T051058
CREATED:20180228T074109Z
LAST-MODIFIED:20180228T120735Z
UID:8382-1520640000-1520899199@briol.de
SUMMARY:Traditionelle Frühjahrssonderschau in Ampfing
DESCRIPTION:Ein großes Ereignis wirft seine Schatten voraus: Zur traditionellen Frühjahrssonderschau vom 10. &#8211; 12. März 2018\, der größten Neu- und Gebrauchtmaschinenausstellung Süddeutschlands mit 1.500 m² Fundgrube\, wird auch die Firma Briol Maschinenbau (vormals Briol Geräteservice) vertreten sein. Bereits zum Sechsten mal werden wir\, bei der Frühjahrsausstellung der Firma Gruber Landtechnik in Ampfing\, eine kleine Auswahl von Maschinen zur Strohverarbeitung ausstellen.\ndiese Maschinen können Sie besichtigen\n&#8211; Teagle Strohmühle 505 M\n&#8211; Teagle Strohhäcksler Tomahawk T 8150 Dual Chop\n&#8211; Briol Einstreugerät für Geflügelställe ESG 220/2 mit Feinstreueinrichtung
URL:https://briol.de/event/traditionelle-fruehjahrssonderschau-in-ampfing/
ATTACH;FMTTYPE=image/gif:https://briol.de/wp-content/uploads/2018/02/logo.gif
END:VEVENT
END:VCALENDAR