BEGIN:VCALENDAR
VERSION:2.0
PRODID:-//BRIOL Maschinenbau GmbH - ECPv6.15.17.1//NONSGML v1.0//EN
CALSCALE:GREGORIAN
METHOD:PUBLISH
X-WR-CALNAME:BRIOL Maschinenbau GmbH
X-ORIGINAL-URL:https://briol.de
X-WR-CALDESC:Veranstaltungen für BRIOL Maschinenbau GmbH
REFRESH-INTERVAL;VALUE=DURATION:PT1H
X-Robots-Tag:noindex
X-PUBLISHED-TTL:PT1H
BEGIN:VTIMEZONE
TZID:Europe/Berlin
BEGIN:DAYLIGHT
TZOFFSETFROM:+0100
TZOFFSETTO:+0200
TZNAME:CEST
DTSTART:20170326T010000
END:DAYLIGHT
BEGIN:STANDARD
TZOFFSETFROM:+0200
TZOFFSETTO:+0100
TZNAME:CET
DTSTART:20171029T010000
END:STANDARD
BEGIN:DAYLIGHT
TZOFFSETFROM:+0100
TZOFFSETTO:+0200
TZNAME:CEST
DTSTART:20180325T010000
END:DAYLIGHT
BEGIN:STANDARD
TZOFFSETFROM:+0200
TZOFFSETTO:+0100
TZNAME:CET
DTSTART:20181028T010000
END:STANDARD
BEGIN:DAYLIGHT
TZOFFSETFROM:+0100
TZOFFSETTO:+0200
TZNAME:CEST
DTSTART:20190331T010000
END:DAYLIGHT
BEGIN:STANDARD
TZOFFSETFROM:+0200
TZOFFSETTO:+0100
TZNAME:CET
DTSTART:20191027T010000
END:STANDARD
END:VTIMEZONE
BEGIN:VEVENT
DTSTART;VALUE=DATE:20180830
DTEND;VALUE=DATE:20180903
DTSTAMP:20260424T210418
CREATED:20180801T101159Z
LAST-MODIFIED:20180801T101159Z
UID:8767-1535587200-1535932799@briol.de
SUMMARY:NORLA 2018
DESCRIPTION:Hallo und herzlich Willkommen heißt es vom 30. August bis zum 2. September auf dem Rendsburger Messegelände. Zum 69. Mal findet hier die landwirtschaftliche Fachausstellung und Verbrauchermesse\, die Norla\, statt. Für die Firma Briol Maschinenbau (vormals Briol Geräteservice) ist es mittlerweile zur Tradition geworden\, an dieser Ausstellung im Norden von Deutschland\, teilzunehmen. Auf 156 m² werden wir wieder eine Auswahl von Strohmühlen und Stroh- und Silageverteilgeräten ausstellen. Sie finden uns dann in der &#8220; Berliner Allee &#8220; im Block S auf dem Stand Nummer 15. \nfolgende Maschinen werden wir auf der NORLA präsentieren: \n&#8211; Haybuster Strohmühle\n&#8211; Teagle Strohmühle\n&#8211; Teagle Stroh- und Silageverteiler\n&#8211; Teagle Schwadlüfter\n&#8211; Flingk Streuschaufel\n&#8211; SIG &#8220; drake &#8220; Ballenabroller mit Breitstreufunktion
URL:https://briol.de/event/norla-2018/
LOCATION:Messegelände Rendsburg\, Rendsburg\, Schleswig Holstein\, 24768
ATTACH;FMTTYPE=image/jpeg:https://briol.de/wp-content/uploads/2018/08/Norla2018_BannerNordbauern.4ffe1364.jpg
END:VEVENT
END:VCALENDAR