BEGIN:VCALENDAR
VERSION:2.0
PRODID:-//BRIOL Maschinenbau GmbH - ECPv6.15.17.1//NONSGML v1.0//EN
CALSCALE:GREGORIAN
METHOD:PUBLISH
X-ORIGINAL-URL:https://briol.de
X-WR-CALDESC:Veranstaltungen für BRIOL Maschinenbau GmbH
REFRESH-INTERVAL;VALUE=DURATION:PT1H
X-Robots-Tag:noindex
X-PUBLISHED-TTL:PT1H
BEGIN:VTIMEZONE
TZID:Europe/Berlin
BEGIN:DAYLIGHT
TZOFFSETFROM:+0100
TZOFFSETTO:+0200
TZNAME:CEST
DTSTART:20170326T010000
END:DAYLIGHT
BEGIN:STANDARD
TZOFFSETFROM:+0200
TZOFFSETTO:+0100
TZNAME:CET
DTSTART:20171029T010000
END:STANDARD
BEGIN:DAYLIGHT
TZOFFSETFROM:+0100
TZOFFSETTO:+0200
TZNAME:CEST
DTSTART:20180325T010000
END:DAYLIGHT
BEGIN:STANDARD
TZOFFSETFROM:+0200
TZOFFSETTO:+0100
TZNAME:CET
DTSTART:20181028T010000
END:STANDARD
BEGIN:DAYLIGHT
TZOFFSETFROM:+0100
TZOFFSETTO:+0200
TZNAME:CEST
DTSTART:20190331T010000
END:DAYLIGHT
BEGIN:STANDARD
TZOFFSETFROM:+0200
TZOFFSETTO:+0100
TZNAME:CET
DTSTART:20191027T010000
END:STANDARD
END:VTIMEZONE
BEGIN:VEVENT
DTSTART;TZID=Europe/Berlin:20180913T090000
DTEND;TZID=Europe/Berlin:20180916T180000
DTSTAMP:20260424T210423
CREATED:20180806T114922Z
LAST-MODIFIED:20180806T114922Z
UID:8773-1536829200-1537120800@briol.de
SUMMARY:MeLa - Mecklenburgische Landmaschinenausstellung
DESCRIPTION:Die MeLa\, Fachausstellung für Landwirtschaft und Ernährung\, Fischwirtschaft\, Forst\, Jagd und Gartenbau findet 2018 zum 28. Mal statt. Die Mecklenburgische Landmaschinenausstellung hat sich seit ihrer ersten Auflage als eine der größten Landwirtschaftsmessen im Nordosten Deutschlands etabliert. Wie in jedem Jahr sind auch wir\, die Firma Briol Maschinenbau\, wieder mit einer kleinen Auswahl an Maschinen vor Ort. Zusammen mit der Firma SRB &#8211; Karstädt\, welche ihre Futtermischwagen (Keenan\, Storti) ausstellt\, wird Briol Maschinenbau diverse Stroh- und Silageverteiltechnik präsentieren. Der Gemeinschaftsstand umfasst 240 m² und befindet sich auf dem Freigelände Standnummer A &#8211; 22. \nfolgende Maschinen stellen wir aus: \n&#8211; Teagle Strohmühle\n&#8211; Teagle Stroh- und Silageauflöser\n&#8211; Teagle Schwadlüfter\n&#8211; Ballenabroller SIG &#8222;drake&#8220;\n&#8211; Flingk Einstreuschaufel
URL:https://briol.de/event/mela-mecklenburgische-landmaschinenausstellung/
LOCATION:Ausstellungsgelände Mühlengeez\, Leute Wiese 10 - 11\, Gülzow - Prüzen OT Mühlengeez\, 18276
ATTACH;FMTTYPE=image/png:https://briol.de/wp-content/uploads/2018/08/MeLa18_Banner_800x250_Wir-sehen-uns-auf-der-MeLa.png
END:VEVENT
END:VCALENDAR